BEGIN:VCALENDAR
VERSION:2.0
PRODID:-//Tango Luna Kaufbeuren - ECPv6.15.20//NONSGML v1.0//EN
CALSCALE:GREGORIAN
METHOD:PUBLISH
X-WR-CALNAME:Tango Luna Kaufbeuren
X-ORIGINAL-URL:https://www.tango-kaufbeuren.de
X-WR-CALDESC:Veranstaltungen für Tango Luna Kaufbeuren
REFRESH-INTERVAL;VALUE=DURATION:PT1H
X-Robots-Tag:noindex
X-PUBLISHED-TTL:PT1H
BEGIN:VTIMEZONE
TZID:Europe/Helsinki
BEGIN:DAYLIGHT
TZOFFSETFROM:+0200
TZOFFSETTO:+0300
TZNAME:EEST
DTSTART:20230326T010000
END:DAYLIGHT
BEGIN:STANDARD
TZOFFSETFROM:+0300
TZOFFSETTO:+0200
TZNAME:EET
DTSTART:20231029T010000
END:STANDARD
BEGIN:DAYLIGHT
TZOFFSETFROM:+0200
TZOFFSETTO:+0300
TZNAME:EEST
DTSTART:20240331T010000
END:DAYLIGHT
BEGIN:STANDARD
TZOFFSETFROM:+0300
TZOFFSETTO:+0200
TZNAME:EET
DTSTART:20241027T010000
END:STANDARD
BEGIN:DAYLIGHT
TZOFFSETFROM:+0200
TZOFFSETTO:+0300
TZNAME:EEST
DTSTART:20250330T010000
END:DAYLIGHT
BEGIN:STANDARD
TZOFFSETFROM:+0300
TZOFFSETTO:+0200
TZNAME:EET
DTSTART:20251026T010000
END:STANDARD
END:VTIMEZONE
BEGIN:VEVENT
DTSTART;TZID=Europe/Helsinki:20240428T163000
DTEND;TZID=Europe/Helsinki:20240428T210000
DTSTAMP:20260425T192351
CREATED:20231030T234000Z
LAST-MODIFIED:20240426T163708Z
UID:4314-1714321800-1714338000@www.tango-kaufbeuren.de
SUMMARY:Jubiläumsmilonga 28. April im Jagdhof mit Cuarteto Rotterdam - AUSGEBUCHT
DESCRIPTION:10 Jahre Tango Luna – 10 Jahre Jagdhof-Milongas!\nJubiläums-Milonga\nmit \nCuarteto Rotterdam\nund \nDJ Rodica Lutsch\n\nDie Milonga ist ausgebucht!\nAuch die Warteliste ist inzwischen geschlossen. Wir freuen uns auf alle\, die kommen\, und hoffen\, alle anderen ein andermal bei uns haben zu können!\n\nWir freuen uns riesig\, mit euch das 10jährige Bestehen unseres Vereins und der Jagdhof-Milongas feiern zu können!\nDafür haben wir eines der besten Tango Ensembles Europas eingeladen: Das Cuarteto Rotterdam!\nDas Quartett aus Bandoneón\, Violine\, Piano und Kontrabass\, das die Tangueras und Tangueros von Paris bis Buenos Aires begeistert\, verspricht eine gelungene Balance aus Tradition und Moderne und vor allem Musik\, die direkt in die Beine geht!\n \nAuch zwischen den Livesets werdet ihr keine Pause machen wollen\,\nda dann Rodica ihre feinste traditionelle Musik für uns auflegen wird! \nDamit alle einen glücklichen\, tanzerfüllten Abend haben können\, sind unsere Milongas „Role balanced“ und mit begrenzter Teilnehmerzahl\,deshalb veranstalten wir unsere Milongas mit Anmeldung.\nBitte verwendet dafür das Anmeldeformular\, das ihr ca. 2 Wochen vor der Milonga unter dem Menüpunkt „Veranstaltungen – Milonga Anmeldeformular“ findet.\nIhr könnt dann auch einfach HIER klicken \nIm UG findet ihr „Tangostyle La Lucila“\, die für euch ihre neuesten Stücke dabei hat. Sie ist schon ab 15.30 für euch bereit und ihr Motto ist heute: „10 Jahre – 10 Euro!“  Wer also etwas bei ihr findet\, darf sich heute über einen Preisabzug von 10€ freuen! \nAb 16.00 Uhr könnt ihr dann in den Saal\, um euch einen Tisch auszusuchen. Wir tanzen von 16.30 bis 21 Uhr.\nWie immer können bei uns auch Frauen auffordern\, mit oder ohne Cabeceo.\nRücksichtsvolles Tanzen in der Ronda wünschen wir uns heute ganz besonders. \nUnkostenbeitrag: 28 €  \nOb von nah oder fern\, Freunde\, Bekannte oder ganz neue Gäste –\nWir freuen uns sehr auf euch alle\, auf eure Tanzfreude\, eure Offenheit für neue Begegnungen und auf die wunderbare Stimmung\, die ihr immer mitbringt! \nFür die ganz neuen Gäste:\nJagdhof\, Allgäuer Str. 1\, Schlingen bei Bad Wörishofen\nAusreichend Parkplätze vor der Haustür
URL:https://www.tango-kaufbeuren.de/event/milonga-im-jagdhof-5-2-2-2-3-4-3-2-2-2-2
LOCATION:Jagdhof Schlingen\, Allgäuer Str. 1 \, Bad Wörishofen\, 86825\, Deutschland
CATEGORIES:Milonga
ATTACH;FMTTYPE=image/png:https://www.tango-kaufbeuren.de/wp-content/uploads/2024/01/Rotterdam-1.png
END:VEVENT
END:VCALENDAR