BEGIN:VCALENDAR
VERSION:2.0
PRODID:-//Tango Luna Kaufbeuren - ECPv6.15.20//NONSGML v1.0//EN
CALSCALE:GREGORIAN
METHOD:PUBLISH
X-WR-CALNAME:Tango Luna Kaufbeuren
X-ORIGINAL-URL:https://www.tango-kaufbeuren.de
X-WR-CALDESC:Veranstaltungen für Tango Luna Kaufbeuren
REFRESH-INTERVAL;VALUE=DURATION:PT1H
X-Robots-Tag:noindex
X-PUBLISHED-TTL:PT1H
BEGIN:VTIMEZONE
TZID:Europe/Berlin
BEGIN:DAYLIGHT
TZOFFSETFROM:+0100
TZOFFSETTO:+0200
TZNAME:CEST
DTSTART:20240331T010000
END:DAYLIGHT
BEGIN:STANDARD
TZOFFSETFROM:+0200
TZOFFSETTO:+0100
TZNAME:CET
DTSTART:20241027T010000
END:STANDARD
BEGIN:DAYLIGHT
TZOFFSETFROM:+0100
TZOFFSETTO:+0200
TZNAME:CEST
DTSTART:20250330T010000
END:DAYLIGHT
BEGIN:STANDARD
TZOFFSETFROM:+0200
TZOFFSETTO:+0100
TZNAME:CET
DTSTART:20251026T010000
END:STANDARD
BEGIN:DAYLIGHT
TZOFFSETFROM:+0100
TZOFFSETTO:+0200
TZNAME:CEST
DTSTART:20260329T010000
END:DAYLIGHT
BEGIN:STANDARD
TZOFFSETFROM:+0200
TZOFFSETTO:+0100
TZNAME:CET
DTSTART:20261025T010000
END:STANDARD
END:VTIMEZONE
BEGIN:VEVENT
DTSTART;TZID=Europe/Berlin:20250329T200000
DTEND;TZID=Europe/Berlin:20250330T000000
DTSTAMP:20260424T230434
CREATED:20241005T215659Z
LAST-MODIFIED:20250327T215750Z
UID:4547-1743278400-1743292800@www.tango-kaufbeuren.de
SUMMARY:Milonga am Samstag\, 29. März im Goldenen Rössle mit Anmeldung - AUSGEBUCHT
DESCRIPTION:Milonga im Rössle\n\n – mit Anmeldung\nSamstag\, 29. März 2025\n20-24 Uhr\n\n\n– AUSGEBUCHT – \n\n\nWir laden euch wieder herzlich ein ins Rössle und freuen uns sehr auf unseren \nDJ Konstantinos aus Ulm \nKonstantinos legt für uns 70% traditionell und 30% modern auf\, und wir sind voller Vorfreude auf seine sorgfältig ausgewählte Musik\, mit der er wieder einen stimmungsvollen Abend mit ganz viel Tanzglück für uns alle zaubern wird. \nDamit alle einen schönen und tanzerfüllten Abend haben können\, achten wir auf eine begrenzte und ausgeglichene Anzahl von Folgenden und Führenden und veranstalten deshalb unsere Milongas mit Anmeldung. Bitte verwendet dafür das Anmeldeformular\, das ihr ca. 1 Woche vor der Milonga unter dem Menüpunkt „Veranstaltungen – Milonga Anmeldeformular“ findet. Ihr könnt dann auch einfach HIER klicken \nWie immer fordern bei uns Frauen und Männer auf – egal ob mit Cabeceo oder einfach nett gefragt. Danke für eure beständige Offenheit für neue Begegnungen! \nDas Rössle ist in der Allgäuer Str. 20 in Schlingen bei Bad Wörishofen\, es sind genug Parkmöglichkeiten vorhanden. \nOb von nah oder fern\, Freunde\, Bekannte oder ganz neue Gäste – wir freuen uns sehr auf euch alle und und einen entspannten\, wunderschönen Abend mit euch!
URL:https://www.tango-kaufbeuren.de/event/milonga-mit-anmeldung-3-2-2-3-2-3-5-2
ATTACH;FMTTYPE=image/jpeg:https://www.tango-kaufbeuren.de/wp-content/uploads/2019/01/RössleFarbe2.jpg
END:VEVENT
END:VCALENDAR